BEGIN:VCALENDAR
VERSION:2.0
PRODID:-//Plone.org//NONSGML plone.app.event//EN
X-WR-TIMEZONE:Europe/Rome
BEGIN:VEVENT
SUMMARY:Baccanale in Boutique - Zafferano che passione
DTSTART;VALUE=DATE:20251025
DTEND;VALUE=DATE:20251117
DTSTAMP;VALUE=DATE-TIME:20260421T154940Z
UID:44d481cc3411450aa7813fb46df00bf2@www.baccanaleimola.it
CATEGORIES:Baccanale 2025,Baccanale in boutique,mostre,spezie
CREATED;VALUE=DATE-TIME:20250918T124752Z
DESCRIPTION:Mostra permanente sulla produzione dello zafferano sui colli d
 i imola
LAST-MODIFIED;VALUE=DATE-TIME:20251016T140012Z
URL:https://www.baccanaleimola.it/api/programma/zafferano-che-passione
END:VEVENT
END:VCALENDAR
