BEGIN:VCALENDAR
VERSION:2.0
PRODID:-//Plone.org//NONSGML plone.app.event//EN
X-WR-TIMEZONE:Europe/Rome
BEGIN:VEVENT
SUMMARY:XXXI BANCO D’ASSAGGIO DEI VINI E DEI PRODOTTI DELL’IMOLESE
DTSTART;TZID=Europe/Rome;VALUE=DATE-TIME:20251109T113000
DTEND;TZID=Europe/Rome;VALUE=DATE-TIME:20251109T183000
DTSTAMP;VALUE=DATE-TIME:20260421T155647Z
UID:29014870c8a84d6893356eee6adffc3f@www.baccanaleimola.it
CATEGORIES:Baccanale 2025,spezie,degustazione
CREATED;VALUE=DATE-TIME:20250916T093334Z
DESCRIPTION:Una giornata a porte aperte in cui i produttori locali present
 eranno i propri prodotti e guideranno il pubblico alla scoperta delle prod
 uzioni locali di vino\, birra e non solo. \nProposte gastronomiche dell’
 Istituto Alberghiero P. Artusi di Riolo Terme\, B. Scappi di Castel San Pi
 etro Terme\, e Istituto tecnico-agrario Scarabelli-Ghini di Imola. \nore 1
 2.30 Pranzo a tema a cura dell’Associazione Tempi di Recupero \nIngresso
  gratuito. \n
LAST-MODIFIED;VALUE=DATE-TIME:20251022T062608Z
URL:https://www.baccanaleimola.it/api/programma/xxxi-banco-d2019assaggio-d
 ei-vini-e-dei-prodotti-dell2019imolese
END:VEVENT
BEGIN:VTIMEZONE
TZID:Europe/Rome
X-LIC-LOCATION:Europe/Rome
BEGIN:STANDARD
DTSTART;VALUE=DATE-TIME:20251026T020000
TZNAME:CET
TZOFFSETFROM:+0200
TZOFFSETTO:+0100
END:STANDARD
END:VTIMEZONE
END:VCALENDAR
