BEGIN:VCALENDAR
VERSION:2.0
PRODID:-//Plone.org//NONSGML plone.app.event//EN
X-WR-TIMEZONE:Europe/Rome
BEGIN:VEVENT
SUMMARY:XXXI BANCO D’ASSAGGIO DEI VINI E DEI PRODOTTI DELL’IMOLESE E X
 V OLIMOLA
DTSTART;TZID=Europe/Rome;VALUE=DATE-TIME:20251107T180000
DTEND;TZID=Europe/Rome;VALUE=DATE-TIME:20251107T230000
DTSTAMP;VALUE=DATE-TIME:20260421T155759Z
UID:84fb1845061e49b2ab8d9f96eaf7f67e@www.baccanaleimola.it
CREATED;VALUE=DATE-TIME:20250916T082333Z
DESCRIPTION:Selezione di etichette presentate dalle aziende produttrici de
 lla zonazione DOC Colli d’Imola e della Romagna. \nL’Olio extravergine
  di Oliva prodotto in Emilia-Romagna: presentazioni e degustazioni guidate
 .\nGastronomia a pagamento. Ingresso € 20 (la biglietteria è attiva fin
 o a 30 minuti prima della chiusura)\n
LAST-MODIFIED;VALUE=DATE-TIME:20251030T122434Z
URL:https://www.baccanaleimola.it/api/programma/xxxi-banco-d2019assaggio-d
 ei-vini-e-dei-prodotti-dell2019imolese-e-xiv-olimola
END:VEVENT
BEGIN:VTIMEZONE
TZID:Europe/Rome
X-LIC-LOCATION:Europe/Rome
BEGIN:STANDARD
DTSTART;VALUE=DATE-TIME:20251026T020000
TZNAME:CET
TZOFFSETFROM:+0200
TZOFFSETTO:+0100
END:STANDARD
END:VTIMEZONE
END:VCALENDAR
