BEGIN:VCALENDAR
VERSION:2.0
PRODID:-//Plone.org//NONSGML plone.app.event//EN
X-WR-TIMEZONE:Europe/Rome
BEGIN:VEVENT
SUMMARY:XXXI BANCO D’ASSAGGIO DEI VINI E DEI PRODOTTI DELL’IMOLESE E X
 V OLIMOLA
DTSTART;TZID=Europe/Rome;VALUE=DATE-TIME:20251108T180000
DTEND;TZID=Europe/Rome;VALUE=DATE-TIME:20251108T230000
DTSTAMP;VALUE=DATE-TIME:20260421T174107Z
UID:3165430b7d284a69a1e43fd442a2fbc2@www.baccanaleimola.it
CREATED;VALUE=DATE-TIME:20251022T101442Z
LAST-MODIFIED;VALUE=DATE-TIME:20251030T122515Z
URL:https://www.baccanaleimola.it/api/programma/xxxi-banco-d2019assaggio-d
 ei-vini-e-dei-prodotti-dell2019imolese-e-xiv-olimola-1
END:VEVENT
BEGIN:VTIMEZONE
TZID:Europe/Rome
X-LIC-LOCATION:Europe/Rome
BEGIN:STANDARD
DTSTART;VALUE=DATE-TIME:20251026T020000
TZNAME:CET
TZOFFSETFROM:+0200
TZOFFSETTO:+0100
END:STANDARD
END:VTIMEZONE
END:VCALENDAR
