BEGIN:VCALENDAR
VERSION:2.0
PRODID:-//Plone.org//NONSGML plone.app.event//EN
X-WR-TIMEZONE:Europe/Rome
BEGIN:VEVENT
SUMMARY:VISITA GUIDATA ALLA MOSTRA “SPEZIE DAL MONDO”
DTSTART;TZID=Europe/Rome;VALUE=DATE-TIME:20251115T110000
DTEND;TZID=Europe/Rome;VALUE=DATE-TIME:20251115T120000
DTSTAMP;VALUE=DATE-TIME:20260421T155635Z
UID:84caa98fcf7541d198961f109fbf1cde@www.baccanaleimola.it
CATEGORIES:Baccanale 2025,spezie,mostre,visita guidata
CREATED;VALUE=DATE-TIME:20250916T124213Z
DESCRIPTION:Visita guidata della mostra alla presenza di Carla Coco\, dire
 ttore artistico della manifestazione “Spezie dal mondo”. Un’occasion
 e per scoprire\, attraverso un percorso sensoriale visivo e olfattivo\, le
  caratteristiche e i segreti delle oltre 250 spezie esposte. \nIngresso gr
 atuito\n
LAST-MODIFIED;VALUE=DATE-TIME:20251017T074355Z
URL:https://www.baccanaleimola.it/api/programma/visita-guidata-alla-mostra
 -201cspezie-dal-mondo201d
END:VEVENT
BEGIN:VTIMEZONE
TZID:Europe/Rome
X-LIC-LOCATION:Europe/Rome
BEGIN:STANDARD
DTSTART;VALUE=DATE-TIME:20251026T020000
TZNAME:CET
TZOFFSETFROM:+0200
TZOFFSETTO:+0100
END:STANDARD
END:VTIMEZONE
END:VCALENDAR
