BEGIN:VCALENDAR
VERSION:2.0
PRODID:-//Plone.org//NONSGML plone.app.event//EN
X-WR-TIMEZONE:Europe/Rome
BEGIN:VEVENT
SUMMARY:Baccanale in Boutique - Vernissage di spezie
DTSTART;TZID=Europe/Rome;VALUE=DATE-TIME:20251025T180000
DTEND;TZID=Europe/Rome;VALUE=DATE-TIME:20251116T220000
DTSTAMP;VALUE=DATE-TIME:20260421T154139Z
UID:797fa85ab1254cd1986f74db2dc33bfc@www.baccanaleimola.it
CATEGORIES:Baccanale 2025,Baccanale in boutique,spezie,degustazione
CREATED;VALUE=DATE-TIME:20250918T110633Z
DESCRIPTION:Degustazione di vino speziato con assaggi gourmet. Degustazion
 e liquori speziati e assaggi.
LAST-MODIFIED;VALUE=DATE-TIME:20251017T074004Z
URL:https://www.baccanaleimola.it/api/programma/vernissage-di-spezie
END:VEVENT
BEGIN:VTIMEZONE
TZID:Europe/Rome
X-LIC-LOCATION:Europe/Rome
BEGIN:DAYLIGHT
DTSTART;VALUE=DATE-TIME:20250330T030000
TZNAME:CEST
TZOFFSETFROM:+0100
TZOFFSETTO:+0200
END:DAYLIGHT
BEGIN:STANDARD
DTSTART;VALUE=DATE-TIME:20251026T020000
TZNAME:CET
TZOFFSETFROM:+0200
TZOFFSETTO:+0100
END:STANDARD
END:VTIMEZONE
END:VCALENDAR
