BEGIN:VCALENDAR
VERSION:2.0
PRODID:-//Plone.org//NONSGML plone.app.event//EN
X-WR-TIMEZONE:Europe/Rome
BEGIN:VEVENT
SUMMARY:UNA TOVAGLIETTA… SPEZIALE!!!
DTSTART;TZID=Europe/Rome;VALUE=DATE-TIME:20251026T100000
DTEND;TZID=Europe/Rome;VALUE=DATE-TIME:20251026T123000
DTSTAMP;VALUE=DATE-TIME:20260421T155305Z
UID:a10d23992e034899a5c37223157ce0f6@www.baccanaleimola.it
CATEGORIES:Baccanale 2025,per bambini,spezie
CREATED;VALUE=DATE-TIME:20250915T090428Z
DESCRIPTION:Divertiamoci a decorare\, colorare\, profumare\, macchiare\, l
 a nostra personale tovaglietta per la merenda o per la colazione con tutti
  i sapori e i colori delle spezie!
LAST-MODIFIED;VALUE=DATE-TIME:20251017T074153Z
URL:https://www.baccanaleimola.it/api/programma/una-tovaglietta-speziale
END:VEVENT
BEGIN:VTIMEZONE
TZID:Europe/Rome
X-LIC-LOCATION:Europe/Rome
BEGIN:STANDARD
DTSTART;VALUE=DATE-TIME:20251026T020000
TZNAME:CET
TZOFFSETFROM:+0200
TZOFFSETTO:+0100
END:STANDARD
END:VTIMEZONE
END:VCALENDAR
