BEGIN:VCALENDAR
VERSION:2.0
PRODID:-//Plone.org//NONSGML plone.app.event//EN
X-WR-TIMEZONE:Europe/Rome
BEGIN:VEVENT
SUMMARY:UNA TOVAGLIETTA… SPEZIALE
DTSTART;TZID=Europe/Rome;VALUE=DATE-TIME:20251026T163000
DTEND;TZID=Europe/Rome;VALUE=DATE-TIME:20251026T190000
DTSTAMP;VALUE=DATE-TIME:20260421T172510Z
UID:653c9016336a4f179cdf8e11ca5e6437@www.baccanaleimola.it
CATEGORIES:Baccanale 2025,per bambini,laboratorio,spezie
CREATED;VALUE=DATE-TIME:20250915T091015Z
DESCRIPTION: \n\nDivertiamoci a decorare\, colorare\, profumare\,  macchia
 re\, la nostra personale tovaglietta per la merenda o per la  colazione co
 n tutti i sapori e i colori delle spezie!
LAST-MODIFIED;VALUE=DATE-TIME:20251017T074137Z
URL:https://www.baccanaleimola.it/api/programma/una-tovaglietta-speziale-1
END:VEVENT
BEGIN:VTIMEZONE
TZID:Europe/Rome
X-LIC-LOCATION:Europe/Rome
BEGIN:STANDARD
DTSTART;VALUE=DATE-TIME:20251026T020000
TZNAME:CET
TZOFFSETFROM:+0200
TZOFFSETTO:+0100
END:STANDARD
END:VTIMEZONE
END:VCALENDAR
