BEGIN:VCALENDAR
VERSION:2.0
PRODID:-//Plone.org//NONSGML plone.app.event//EN
X-WR-TIMEZONE:Europe/Rome
BEGIN:VEVENT
SUMMARY:UNA STORIA “SPEZIALE”: L’INCREDIBILE E LUNGO VIAGGIO IN TUTT
 O IL MONDO ALLA RICERCA DI NUOVI ODORI E SAPORI
DTSTART;TZID=Europe/Rome;VALUE=DATE-TIME:20251031T173000
DTEND;TZID=Europe/Rome;VALUE=DATE-TIME:20251031T183000
DTSTAMP;VALUE=DATE-TIME:20260421T155824Z
UID:d87d7c310df7422eb183738eecdc8356@www.baccanaleimola.it
CATEGORIES:Baccanale 2025,spezie
CREATED;VALUE=DATE-TIME:20250915T111245Z
DESCRIPTION:La conferenza\, tenuta da Liliana Vivoli\, esporrà come le av
 venturose scoperte geografiche che hanno cambiato la nostra storia siano s
 tate determinate da motivazioni economiche\, e come le spezie abbiano rive
 stito per secoli un ruolo significativo tra le merci più ambite\, insegui
 te ad alto prezzo di vite umane. 
LAST-MODIFIED;VALUE=DATE-TIME:20250917T085156Z
URL:https://www.baccanaleimola.it/api/programma/una-storia-201cspeziale201
 d-l2019incredibile-e-lungo-viaggio-in-tutto-il-mondo-alla-ricerca-di-nuovi
 -odori-e-sapori
END:VEVENT
BEGIN:VTIMEZONE
TZID:Europe/Rome
X-LIC-LOCATION:Europe/Rome
BEGIN:STANDARD
DTSTART;VALUE=DATE-TIME:20251026T020000
TZNAME:CET
TZOFFSETFROM:+0200
TZOFFSETTO:+0100
END:STANDARD
END:VTIMEZONE
END:VCALENDAR
