BEGIN:VCALENDAR
VERSION:2.0
PRODID:-//Plone.org//NONSGML plone.app.event//EN
X-WR-TIMEZONE:Europe/Rome
BEGIN:VEVENT
SUMMARY:Baccanale in Boutique - UN VIAGGIO NEL TEMPO
DTSTART;TZID=Europe/Rome;VALUE=DATE-TIME:20251029T170000
DTEND;TZID=Europe/Rome;VALUE=DATE-TIME:20251029T190000
DTSTAMP;VALUE=DATE-TIME:20260421T174208Z
UID:cd4c299e2a7b49458f8ab4204425a3d7@www.baccanaleimola.it
CATEGORIES:Baccanale 2025,spezie
CREATED;VALUE=DATE-TIME:20250915T103756Z
DESCRIPTION:UN VIAGGIO NEL TEMPO: DAL FARMACISTA SPEZIALE AI RIMEDI MODERN
 I\nRelazione di due farmaciste sul ruolo delle spezie in farmacia dall'ant
 ichità ad oggi.\nA cura di S.F.E.R.A. S.R.L. Farmacia Comunale dell'Osped
 ale e Farmacia Comunale Pedagna \nPer info: 0542 23459\, ospedale@sferafar
 macie.it\n
LAST-MODIFIED;VALUE=DATE-TIME:20251016T140118Z
URL:https://www.baccanaleimola.it/api/programma/un-viaggio-nel-tempo-dal-f
 armacista-speziale-ai-rimedi-moderni
END:VEVENT
BEGIN:VTIMEZONE
TZID:Europe/Rome
X-LIC-LOCATION:Europe/Rome
BEGIN:STANDARD
DTSTART;VALUE=DATE-TIME:20251026T020000
TZNAME:CET
TZOFFSETFROM:+0200
TZOFFSETTO:+0100
END:STANDARD
END:VTIMEZONE
END:VCALENDAR
