BEGIN:VCALENDAR
VERSION:2.0
PRODID:-//Plone.org//NONSGML plone.app.event//EN
X-WR-TIMEZONE:Europe/Rome
BEGIN:VEVENT
SUMMARY:UN VIAGGIO EMOZIONALE NEL MONDO DELLE SPEZIE
DTSTART;TZID=Europe/Rome;VALUE=DATE-TIME:20251114T190000
DTEND;TZID=Europe/Rome;VALUE=DATE-TIME:20251114T203000
DTSTAMP;VALUE=DATE-TIME:20260421T155537Z
UID:2201c215b8e64e6f86cf52252a765934@www.baccanaleimola.it
CATEGORIES:Baccanale 2025,degustazione,spezie
CREATED;VALUE=DATE-TIME:20250916T112911Z
DESCRIPTION:Attraverso i sensi – olfatto\, gusto\, tatto e vista – sar
 à possibile immergersi nell’universo delle spezie. Durante la serata di
  degustazione\, il cibo diventa memoria e racconto e la tavola uno spazio 
 di incontro e condivisione.\nA cura di Associazione Trama di Terre APS\nA 
 pagamento. Info e prenotazioni: info@tramaditerre.org\, 0542 28912\n
LAST-MODIFIED;VALUE=DATE-TIME:20250924T060544Z
URL:https://www.baccanaleimola.it/api/programma/un-viaggio-emozionale-nel-
 mondo-delle-spezie
END:VEVENT
BEGIN:VTIMEZONE
TZID:Europe/Rome
X-LIC-LOCATION:Europe/Rome
BEGIN:STANDARD
DTSTART;VALUE=DATE-TIME:20251026T020000
TZNAME:CET
TZOFFSETFROM:+0200
TZOFFSETTO:+0100
END:STANDARD
END:VTIMEZONE
END:VCALENDAR
