BEGIN:VCALENDAR
VERSION:2.0
PRODID:-//Plone.org//NONSGML plone.app.event//EN
X-WR-TIMEZONE:Europe/Rome
BEGIN:VEVENT
SUMMARY:UN TARTUFO DA PAURA!
DTSTART;TZID=Europe/Rome;VALUE=DATE-TIME:20251031T173000
DTEND;TZID=Europe/Rome;VALUE=DATE-TIME:20251031T200000
DTSTAMP;VALUE=DATE-TIME:20260421T155129Z
UID:b1fd18788b9e4c0f9b0286aadfb47fff@www.baccanaleimola.it
CATEGORIES:Baccanale 2025,spezie,per bambini
CREATED;VALUE=DATE-TIME:20250915T110759Z
DESCRIPTION:Anteprima Truffle Week
LAST-MODIFIED;VALUE=DATE-TIME:20251017T075752Z
URL:https://www.baccanaleimola.it/api/programma/un-tartufo-da-paura
END:VEVENT
BEGIN:VTIMEZONE
TZID:Europe/Rome
X-LIC-LOCATION:Europe/Rome
BEGIN:STANDARD
DTSTART;VALUE=DATE-TIME:20251026T020000
TZNAME:CET
TZOFFSETFROM:+0200
TZOFFSETTO:+0100
END:STANDARD
END:VTIMEZONE
END:VCALENDAR
