BEGIN:VCALENDAR
VERSION:2.0
PRODID:-//Plone.org//NONSGML plone.app.event//EN
X-WR-TIMEZONE:Europe/Rome
BEGIN:VEVENT
SUMMARY:UN MONDO DI SPEZIE AL MERCATO DELLA TERRA DI IMOLA
DTSTART;TZID=Europe/Rome;VALUE=DATE-TIME:20251114T160000
DTEND;TZID=Europe/Rome;VALUE=DATE-TIME:20251114T190000
DTSTAMP;VALUE=DATE-TIME:20260421T174204Z
UID:24d9f1e1b69f49bd9e59ac8405a69742@www.baccanaleimola.it
CATEGORIES:Baccanale 2025,spezie
CREATED;VALUE=DATE-TIME:20250916T074027Z
DESCRIPTION:Laboratori\, assaggi\, incontri e approfondimenti sulle spezie
  coltivate sul territorio\, nel mondo e dei Presidì Slow Food.\nAccesso l
 ibero al mercato\, degustazioni a pagamento con prenotazione al 347 967322
 3.\n
LAST-MODIFIED;VALUE=DATE-TIME:20250917T085158Z
URL:https://www.baccanaleimola.it/api/programma/un-mondo-di-spezie-al-merc
 ato-della-terra-di-imola/2025-11-14
END:VEVENT
BEGIN:VTIMEZONE
TZID:Europe/Rome
X-LIC-LOCATION:Europe/Rome
BEGIN:STANDARD
DTSTART;VALUE=DATE-TIME:20251026T020000
TZNAME:CET
TZOFFSETFROM:+0200
TZOFFSETTO:+0100
END:STANDARD
END:VTIMEZONE
END:VCALENDAR
