BEGIN:VCALENDAR
VERSION:2.0
PRODID:-//Plone.org//NONSGML plone.app.event//EN
X-WR-TIMEZONE:Europe/Rome
BEGIN:VEVENT
SUMMARY:UN ESEMPIO DI CONTROLLO DELLA QUALITÀ DI UNA SPEZIA: L’ORIGANO
DTSTART;TZID=Europe/Rome;VALUE=DATE-TIME:20251111T173000
DTEND;TZID=Europe/Rome;VALUE=DATE-TIME:20251111T183000
DTSTAMP;VALUE=DATE-TIME:20260421T174204Z
UID:2a6a432bb93b4eb480e7f858e75db877@www.baccanaleimola.it
CATEGORIES:Baccanale 2025,spezie
CREATED;VALUE=DATE-TIME:20250916T101305Z
DESCRIPTION:Verrà mostrato un esempio di controllo della qualità a livel
 lo morfologico e fitochimico di una spezia tipica del mediterraneo: l’or
 igano. A seguire test di riconoscimento di spezie ed aromi\nA cura del Pro
 f. Ferruccio Poli (Alma Mater Studiorum\, Università di Bologna - sede di
  Imola)\nInfo e prenotazioni: unibo.sedeimola@unibo.it – 051 8027101\n
LAST-MODIFIED;VALUE=DATE-TIME:20250917T085326Z
URL:https://www.baccanaleimola.it/api/programma/un-esempio-di-controllo-de
 lla-qualita-di-una-spezia-l2019origano
END:VEVENT
BEGIN:VTIMEZONE
TZID:Europe/Rome
X-LIC-LOCATION:Europe/Rome
BEGIN:STANDARD
DTSTART;VALUE=DATE-TIME:20251026T020000
TZNAME:CET
TZOFFSETFROM:+0200
TZOFFSETTO:+0100
END:STANDARD
END:VTIMEZONE
END:VCALENDAR
