BEGIN:VCALENDAR
VERSION:2.0
PRODID:-//Plone.org//NONSGML plone.app.event//EN
X-WR-TIMEZONE:Europe/Rome
BEGIN:VEVENT
SUMMARY:UN DOLCE INCONTRO… SPEZIALE
DTSTART;TZID=Europe/Rome;VALUE=DATE-TIME:20251030T183000
DTEND;TZID=Europe/Rome;VALUE=DATE-TIME:20251030T193000
DTSTAMP;VALUE=DATE-TIME:20260421T172223Z
UID:ffec94f6719c49ebb3a2eeb2a489e40e@www.baccanaleimola.it
CATEGORIES:Baccanale 2025,spezie,incontro
CREATED;VALUE=DATE-TIME:20250915T105238Z
DESCRIPTION:\n
LAST-MODIFIED;VALUE=DATE-TIME:20251023T085429Z
URL:https://www.baccanaleimola.it/api/programma/un-dolce-incontro-speziale
END:VEVENT
BEGIN:VTIMEZONE
TZID:Europe/Rome
X-LIC-LOCATION:Europe/Rome
BEGIN:STANDARD
DTSTART;VALUE=DATE-TIME:20251026T020000
TZNAME:CET
TZOFFSETFROM:+0200
TZOFFSETTO:+0100
END:STANDARD
END:VTIMEZONE
END:VCALENDAR
