BEGIN:VCALENDAR
VERSION:2.0
PRODID:-//Plone.org//NONSGML plone.app.event//EN
X-WR-TIMEZONE:Europe/Rome
BEGIN:VEVENT
SUMMARY:TRAME AROMATICHE: PROFUMI CHE ATTRAVERSANO IL TEMPO
DTSTART;TZID=Europe/Rome;VALUE=DATE-TIME:20251106T200000
DTEND;TZID=Europe/Rome;VALUE=DATE-TIME:20251106T220000
DTSTAMP;VALUE=DATE-TIME:20260421T173700Z
UID:a343684a1cf24d15b926c1d876c150e1@www.baccanaleimola.it
CATEGORIES:Baccanale 2025,spezie,cena
CREATED;VALUE=DATE-TIME:20250916T072318Z
DESCRIPTION:una cena evento che vedrà protagonisti Igles Corelli\, tra i 
 più influenti interpreti della cucina italiana e coordinatore della Gambe
 ro Rosso Academy\; Baldo Baldinini\, alchimista olfattivo e creatore di sp
 irits iconici e Raffaele De Martino\, chef di Gastarea Bistrot
LAST-MODIFIED;VALUE=DATE-TIME:20250917T085200Z
URL:https://www.baccanaleimola.it/api/programma/trame-aromatiche-profumi-c
 he-attraversano-il-tempo
END:VEVENT
BEGIN:VTIMEZONE
TZID:Europe/Rome
X-LIC-LOCATION:Europe/Rome
BEGIN:STANDARD
DTSTART;VALUE=DATE-TIME:20251026T020000
TZNAME:CET
TZOFFSETFROM:+0200
TZOFFSETTO:+0100
END:STANDARD
END:VTIMEZONE
END:VCALENDAR
