BEGIN:VCALENDAR
VERSION:2.0
PRODID:-//Plone.org//NONSGML plone.app.event//EN
X-WR-TIMEZONE:Europe/Rome
BEGIN:VEVENT
SUMMARY:TISANE E TENTAZIONI. UN POMERIGGIO CON CATERINA SFORZA
DTSTART;TZID=Europe/Rome;VALUE=DATE-TIME:20251108T170000
DTEND;TZID=Europe/Rome;VALUE=DATE-TIME:20251108T190000
DTSTAMP;VALUE=DATE-TIME:20260421T155702Z
UID:f293176fb2bd488f8d1f1a21b1069713@www.baccanaleimola.it
CATEGORIES:Baccanale 2025,degustazione,spezie
CREATED;VALUE=DATE-TIME:20250916T090749Z
DESCRIPTION:Un pomeriggio tra spezie\, dolci rinascimentali e tisane profu
 mate ispirato al matrimonio di Caterina Sforza. Un viaggio tra gusto e sto
 ria\, tra aromi di corte e racconti di una donna indomita del Rinascimento
 \nA cura de La Bottega di Palazzo\nA pagamento. Info e prenotazioni: acqua
 viva.annalucia@labottegadipalazzo.com\n
LAST-MODIFIED;VALUE=DATE-TIME:20250917T085327Z
URL:https://www.baccanaleimola.it/api/programma/tisane-e-tentazioni-un-pom
 eriggio-con-caterina-sforza
END:VEVENT
BEGIN:VTIMEZONE
TZID:Europe/Rome
X-LIC-LOCATION:Europe/Rome
BEGIN:STANDARD
DTSTART;VALUE=DATE-TIME:20251026T020000
TZNAME:CET
TZOFFSETFROM:+0200
TZOFFSETTO:+0100
END:STANDARD
END:VTIMEZONE
END:VCALENDAR
