BEGIN:VCALENDAR
VERSION:2.0
PRODID:-//Plone.org//NONSGML plone.app.event//EN
X-WR-TIMEZONE:Europe/Rome
BEGIN:VEVENT
SUMMARY:TANDEM CULINARIO - RUTI AAR DAAL
DTSTART;TZID=Europe/Rome;VALUE=DATE-TIME:20251111T180000
DTEND;TZID=Europe/Rome;VALUE=DATE-TIME:20251111T200000
DTSTAMP;VALUE=DATE-TIME:20260421T155210Z
UID:93a0b0e846394517887549a1dea43149@www.baccanaleimola.it
CATEGORIES:Baccanale 2025,spezie,laboratorio
CREATED;VALUE=DATE-TIME:20250916T101947Z
DESCRIPTION:Laboratorio di cucina in cui i rifugiati prepareranno insieme 
 ai partecipanti un piatto tipico del proprio Paese di provenienza. Ruti Aa
 r Daal\, piatto tipico della cucina asiatica (pane morbido accompagnato da
  uno stufato cremoso di lenticchie speziate). 
LAST-MODIFIED;VALUE=DATE-TIME:20250919T113358Z
URL:https://www.baccanaleimola.it/api/programma/tandem-culinario-ruti-aar-
 daal
END:VEVENT
BEGIN:VTIMEZONE
TZID:Europe/Rome
X-LIC-LOCATION:Europe/Rome
BEGIN:STANDARD
DTSTART;VALUE=DATE-TIME:20251026T020000
TZNAME:CET
TZOFFSETFROM:+0200
TZOFFSETTO:+0100
END:STANDARD
END:VTIMEZONE
END:VCALENDAR
