BEGIN:VCALENDAR
VERSION:2.0
PRODID:-//Plone.org//NONSGML plone.app.event//EN
X-WR-TIMEZONE:Europe/Rome
BEGIN:VEVENT
SUMMARY:TANDEM CULINARIO - NIGERIAN BEEF STEW
DTSTART;TZID=Europe/Rome;VALUE=DATE-TIME:20251104T180000
DTEND;TZID=Europe/Rome;VALUE=DATE-TIME:20251104T200000
DTSTAMP;VALUE=DATE-TIME:20260421T172525Z
UID:c011a5211be046f5adfdc52c8434b39b@www.baccanaleimola.it
CATEGORIES:Baccanale 2025,spezie
CREATED;VALUE=DATE-TIME:20250916T063724Z
DESCRIPTION:Laboratorio di cucina in cui i rifugiati prepareranno insieme 
 ai partecipanti un piatto tipico del proprio Paese di provenienza. Nigeria
 n Beef Stw\, piatto tipico della cucina africana (spezzatino di manzo cuci
 nato in salsa densa e piccante con pomodori\, peperoni\, cipolle e spezie)
LAST-MODIFIED;VALUE=DATE-TIME:20250919T113335Z
URL:https://www.baccanaleimola.it/api/programma/tandem-culinario-nigerian-
 beef-stew
END:VEVENT
BEGIN:VTIMEZONE
TZID:Europe/Rome
X-LIC-LOCATION:Europe/Rome
BEGIN:STANDARD
DTSTART;VALUE=DATE-TIME:20251026T020000
TZNAME:CET
TZOFFSETFROM:+0200
TZOFFSETTO:+0100
END:STANDARD
END:VTIMEZONE
END:VCALENDAR
