BEGIN:VCALENDAR
VERSION:2.0
PRODID:-//Plone.org//NONSGML plone.app.event//EN
X-WR-TIMEZONE:Europe/Rome
BEGIN:VEVENT
SUMMARY:TANDEM CULINARIO - FARS̆YROVANI PERETS’
DTSTART;TZID=Europe/Rome;VALUE=DATE-TIME:20251028T180000
DTEND;TZID=Europe/Rome;VALUE=DATE-TIME:20251028T200000
DTSTAMP;VALUE=DATE-TIME:20260421T173854Z
UID:adb8463de6ca4d54b121da58d0c780de@www.baccanaleimola.it
CATEGORIES:Baccanale 2025,spezie
CREATED;VALUE=DATE-TIME:20250915T101754Z
DESCRIPTION:Laboratorio di cucina in cui i rifugiati prepareranno insieme 
 ai partecipanti un piatto tipico del proprio Paese di provenienza. Fars̆y
 rovani perets’\, piatto tipico della cucina dell’Europa dell’Est (pe
 peroni farciti con riso\, carne macinata e spezie)
LAST-MODIFIED;VALUE=DATE-TIME:20250919T113318Z
URL:https://www.baccanaleimola.it/api/programma/tandem-culinario-farsyrova
 ni-perets2019
END:VEVENT
BEGIN:VTIMEZONE
TZID:Europe/Rome
X-LIC-LOCATION:Europe/Rome
BEGIN:STANDARD
DTSTART;VALUE=DATE-TIME:20251026T020000
TZNAME:CET
TZOFFSETFROM:+0200
TZOFFSETTO:+0100
END:STANDARD
END:VTIMEZONE
END:VCALENDAR
