BEGIN:VCALENDAR
VERSION:2.0
PRODID:-//Plone.org//NONSGML plone.app.event//EN
X-WR-TIMEZONE:Europe/Rome
BEGIN:VEVENT
SUMMARY:SULLE ORME DELLA STORIA DELLE SPEZIE A IMOLA
DTSTART;TZID=Europe/Rome;VALUE=DATE-TIME:20251109T100000
DTEND;TZID=Europe/Rome;VALUE=DATE-TIME:20251109T120000
DTSTAMP;VALUE=DATE-TIME:20260421T155326Z
UID:3230d8f209964421b5b5a35cb8ec2d52@www.baccanaleimola.it
CATEGORIES:Baccanale 2025,spezie,visita guidata
CREATED;VALUE=DATE-TIME:20250916T092550Z
DESCRIPTION:Trekking urbano con Lucia Bartoli per le strade del centro di 
 Imola. Seguendo le antiche mappe della città\, raggiungeremo i luoghi del
 le spezierie di Diotiaiuti e Sartoni. 
LAST-MODIFIED;VALUE=DATE-TIME:20250917T085329Z
URL:https://www.baccanaleimola.it/api/programma/sulle-orme-della-storia-de
 lle-spezie-a-imola
END:VEVENT
BEGIN:VTIMEZONE
TZID:Europe/Rome
X-LIC-LOCATION:Europe/Rome
BEGIN:STANDARD
DTSTART;VALUE=DATE-TIME:20251026T020000
TZNAME:CET
TZOFFSETFROM:+0200
TZOFFSETTO:+0100
END:STANDARD
END:VTIMEZONE
END:VCALENDAR
