BEGIN:VCALENDAR
VERSION:2.0
PRODID:-//Plone.org//NONSGML plone.app.event//EN
X-WR-TIMEZONE:Europe/Rome
BEGIN:VEVENT
SUMMARY:SPICY SHOPPER
DTSTART;TZID=Europe/Rome;VALUE=DATE-TIME:20251115T160000
DTEND;TZID=Europe/Rome;VALUE=DATE-TIME:20251115T170000
DTSTAMP;VALUE=DATE-TIME:20260421T155000Z
UID:e3b35fcf513041988c1b38512ea8fd63@www.baccanaleimola.it
CATEGORIES:Baccanale 2025,spezie,per bambini,laboratorio
CREATED;VALUE=DATE-TIME:20250916T125735Z
DESCRIPTION:Laboratorio di pittura su stoffa con i colori estratti dalle s
 pezie. Cambia colore alla tua shopper e dipingila\, sarà anche molto prof
 umata! Per bambini e ragazzi da 8 a 13 anni\n14 €\, tessera Arci e meren
 da inclusa\nIscrizione obbligatoria entro giovedì 13 novembre: manifattur
 earci.imola@gmail.com\n
LAST-MODIFIED;VALUE=DATE-TIME:20250917T085327Z
URL:https://www.baccanaleimola.it/api/programma/spicy-shopper
END:VEVENT
BEGIN:VTIMEZONE
TZID:Europe/Rome
X-LIC-LOCATION:Europe/Rome
BEGIN:STANDARD
DTSTART;VALUE=DATE-TIME:20251026T020000
TZNAME:CET
TZOFFSETFROM:+0200
TZOFFSETTO:+0100
END:STANDARD
END:VTIMEZONE
END:VCALENDAR
