BEGIN:VCALENDAR
VERSION:2.0
PRODID:-//Plone.org//NONSGML plone.app.event//EN
X-WR-TIMEZONE:Europe/Rome
BEGIN:VEVENT
SUMMARY:SPEZIE\, ERBE E FANTASIA NELLA CUCINA DELL’ANTICO CONVENTO
DTSTART;TZID=Europe/Rome;VALUE=DATE-TIME:20251026T163000
DTEND;TZID=Europe/Rome;VALUE=DATE-TIME:20251026T173000
DTSTAMP;VALUE=DATE-TIME:20260421T174054Z
UID:3b12ec5e4dbc41b587614188dbd8f946@www.baccanaleimola.it
CATEGORIES:Baccanale 2025,per bambini,laboratorio,spezie
CREATED;VALUE=DATE-TIME:20250915T093324Z
DESCRIPTION:Dopo un percorso sensoriale e olfattivo sperimentiamo la nostr
 a personale zuppa dei frati domenicani da portare a casa e gustare in fami
 glia
LAST-MODIFIED;VALUE=DATE-TIME:20250917T085154Z
URL:https://www.baccanaleimola.it/api/programma/spezie-erbe-e-fantasia-nel
 la-cucina-dell2019antico-convento
END:VEVENT
BEGIN:VTIMEZONE
TZID:Europe/Rome
X-LIC-LOCATION:Europe/Rome
BEGIN:STANDARD
DTSTART;VALUE=DATE-TIME:20251026T020000
TZNAME:CET
TZOFFSETFROM:+0200
TZOFFSETTO:+0100
END:STANDARD
END:VTIMEZONE
END:VCALENDAR
