BEGIN:VCALENDAR
VERSION:2.0
PRODID:-//Plone.org//NONSGML plone.app.event//EN
X-WR-TIMEZONE:Europe/Rome
BEGIN:VEVENT
SUMMARY:SPEZIE E PENNELLI
DTSTART;TZID=Europe/Rome;VALUE=DATE-TIME:20251108T160000
DTEND;TZID=Europe/Rome;VALUE=DATE-TIME:20251108T170000
DTSTAMP;VALUE=DATE-TIME:20260421T153930Z
UID:8ece00ec94284087b5f8412dd5fb5988@www.baccanaleimola.it
CATEGORIES:Baccanale 2025,per bambini,spezie
CREATED;VALUE=DATE-TIME:20250916T085953Z
DESCRIPTION:Laboratorio di pittura con le spezie per bambini 6-10 anni e m
 erenda con torta di mele e cannella.\nAvresti mai pensato di creare un qua
 dro tutto fatto di spezie o con i colori che da esse derivano?\n9 € tess
 era Arci e merenda inclusa\nIscrizione obbligatoria entro giovedì 6 novem
 bre: manifatturearci.imola@gmail.com\n
LAST-MODIFIED;VALUE=DATE-TIME:20250917T085327Z
URL:https://www.baccanaleimola.it/api/programma/spezie-e-pennelli
END:VEVENT
BEGIN:VTIMEZONE
TZID:Europe/Rome
X-LIC-LOCATION:Europe/Rome
BEGIN:STANDARD
DTSTART;VALUE=DATE-TIME:20251026T020000
TZNAME:CET
TZOFFSETFROM:+0200
TZOFFSETTO:+0100
END:STANDARD
END:VTIMEZONE
END:VCALENDAR
