BEGIN:VCALENDAR
VERSION:2.0
PRODID:-//Plone.org//NONSGML plone.app.event//EN
X-WR-TIMEZONE:Europe/Rome
BEGIN:VEVENT
SUMMARY:SPEZIE DAL MONDO
DTSTART;VALUE=DATE:20251025
DTEND;VALUE=DATE:20251117
DTSTAMP;VALUE=DATE-TIME:20260421T154930Z
UID:305f8670df43418cbc61abd45f234d46@www.baccanaleimola.it
CATEGORIES:Baccanale 2025,spezie,mostre
CREATED;VALUE=DATE-TIME:20250916T133903Z
DESCRIPTION:L’esposizione presenta oltre 250 tipi di aromi e miscele\, d
 a quelle in uso in epoca romana e nel Medioevo fino alle droghe provenient
 i dal Nuovo Mondo\, come peperoncino\, vaniglia e fava tonka. Due le sezio
 ni speciali: una dedicata alle spezie di Marco Polo\; l’altra alle spezi
 e che si producono oggi in Italia (quali zafferano\, sommacco\, liquirizia
 \, etc).
LAST-MODIFIED;VALUE=DATE-TIME:20251017T073717Z
URL:https://www.baccanaleimola.it/api/programma/spezie-dal-mondo
END:VEVENT
END:VCALENDAR
