BEGIN:VCALENDAR
VERSION:2.0
PRODID:-//Plone.org//NONSGML plone.app.event//EN
X-WR-TIMEZONE:Europe/Rome
BEGIN:VEVENT
SUMMARY:SPEZIE A VENEZIA
DTSTART;TZID=Europe/Rome;VALUE=DATE-TIME:20251115T170000
DTEND;TZID=Europe/Rome;VALUE=DATE-TIME:20251115T183000
DTSTAMP;VALUE=DATE-TIME:20260421T173039Z
UID:7cd99085b66b48b0bd8a2adf389ea45f@www.baccanaleimola.it
CATEGORIES:Baccanale 2025,spezie,incontro,presentazione
CREATED;VALUE=DATE-TIME:20250916T130603Z
DESCRIPTION:Presentazione del libro “Venezia e le sue spezie. Origini\, 
 curiosità e ricette dei 20 aromi che hanno fatto la storia del gusto” (
 El squero Editore\, Venezia 2025) di Carla Coco.
LAST-MODIFIED;VALUE=DATE-TIME:20251017T082514Z
URL:https://www.baccanaleimola.it/api/programma/spezie-a-venezia
END:VEVENT
BEGIN:VTIMEZONE
TZID:Europe/Rome
X-LIC-LOCATION:Europe/Rome
BEGIN:STANDARD
DTSTART;VALUE=DATE-TIME:20251026T020000
TZNAME:CET
TZOFFSETFROM:+0200
TZOFFSETTO:+0100
END:STANDARD
END:VTIMEZONE
END:VCALENDAR
