BEGIN:VCALENDAR
VERSION:2.0
PRODID:-//Plone.org//NONSGML plone.app.event//EN
X-WR-TIMEZONE:Europe/Rome
BEGIN:VEVENT
SUMMARY:Baccanale in Boutique - SHOWCOOKING CON CLAI
DTSTART;TZID=Europe/Rome;VALUE=DATE-TIME:20251026T163000
DTEND;TZID=Europe/Rome;VALUE=DATE-TIME:20251026T173000
DTSTAMP;VALUE=DATE-TIME:20260421T155041Z
UID:a1b3b4f849484658895e325596bde568@www.baccanaleimola.it
CATEGORIES:Baccanale 2025,spezie,Baccanale in boutique
CREATED;VALUE=DATE-TIME:20250915T092856Z
DESCRIPTION:Un piacevole pomeriggio in compagnia dello staff della Macelle
 ria del Contadino del centro storico\, che ci racconterà come utilizzare 
 al meglio le spezie in cucina. 
LAST-MODIFIED;VALUE=DATE-TIME:20251016T140059Z
URL:https://www.baccanaleimola.it/api/programma/showcooking-con-clai-1
END:VEVENT
BEGIN:VTIMEZONE
TZID:Europe/Rome
X-LIC-LOCATION:Europe/Rome
BEGIN:STANDARD
DTSTART;VALUE=DATE-TIME:20251026T020000
TZNAME:CET
TZOFFSETFROM:+0200
TZOFFSETTO:+0100
END:STANDARD
END:VTIMEZONE
END:VCALENDAR
