BEGIN:VCALENDAR
VERSION:2.0
PRODID:-//Plone.org//NONSGML plone.app.event//EN
X-WR-TIMEZONE:Europe/Rome
BEGIN:VEVENT
SUMMARY:SHOWCOOKING “N. 790 DI ARTUSI” – CASA ARTUSI
DTSTART;TZID=Europe/Rome;VALUE=DATE-TIME:20251109T180000
DTEND;TZID=Europe/Rome;VALUE=DATE-TIME:20251109T190000
DTSTAMP;VALUE=DATE-TIME:20260421T174007Z
UID:a34a1d3bde1d44a99027b300c50950ef@www.baccanaleimola.it
CATEGORIES:Baccanale 2025,spezie
CREATED;VALUE=DATE-TIME:20250916T095912Z
DESCRIPTION:A seguire\, ciascun partecipante può degustare un assaggio de
 lla ricetta \nInfo e prenotazioni: attivita.culturali@comune.imola.bo.it 
 – 0542 602300\n
LAST-MODIFIED;VALUE=DATE-TIME:20251017T075216Z
URL:https://www.baccanaleimola.it/api/programma/showcooking-201cn-790-di-a
 rtusi201d-2013-casa-artusi
END:VEVENT
BEGIN:VTIMEZONE
TZID:Europe/Rome
X-LIC-LOCATION:Europe/Rome
BEGIN:STANDARD
DTSTART;VALUE=DATE-TIME:20251026T020000
TZNAME:CET
TZOFFSETFROM:+0200
TZOFFSETTO:+0100
END:STANDARD
END:VTIMEZONE
END:VCALENDAR
