BEGIN:VCALENDAR
VERSION:2.0
PRODID:-//Plone.org//NONSGML plone.app.event//EN
X-WR-TIMEZONE:Europe/Rome
BEGIN:VEVENT
SUMMARY:SHOW COOKING STELLATO CON LO CHEF MAX MASCIA & CANNAMELA
DTSTART;TZID=Europe/Rome;VALUE=DATE-TIME:20251029T183000
DTEND;TZID=Europe/Rome;VALUE=DATE-TIME:20251029T193000
DTSTAMP;VALUE=DATE-TIME:20260421T174007Z
UID:95571354cba64d40a488519546cf6db2@www.baccanaleimola.it
CATEGORIES:Baccanale 2025,spezie
CREATED;VALUE=DATE-TIME:20250915T104436Z
DESCRIPTION:Alla scoperta di sapori e profumi inediti in un evento condott
 o dallo chef Max Mascia\, che porta in scena piatti sorprendenti\, arricch
 iti con le spezie Cannamela\nIngresso libero\n
LAST-MODIFIED;VALUE=DATE-TIME:20251017T075230Z
URL:https://www.baccanaleimola.it/api/programma/show-cooking-stellato-con-
 lo-chef-max-mascia-cannamela
END:VEVENT
BEGIN:VTIMEZONE
TZID:Europe/Rome
X-LIC-LOCATION:Europe/Rome
BEGIN:STANDARD
DTSTART;VALUE=DATE-TIME:20251026T020000
TZNAME:CET
TZOFFSETFROM:+0200
TZOFFSETTO:+0100
END:STANDARD
END:VTIMEZONE
END:VCALENDAR
