BEGIN:VCALENDAR
VERSION:2.0
PRODID:-//Plone.org//NONSGML plone.app.event//EN
X-WR-TIMEZONE:Europe/Rome
BEGIN:VEVENT
SUMMARY:Baccanale in Boutique - Sapori e Spezie al Callegherie 21
DTSTART;TZID=Europe/Rome;VALUE=DATE-TIME:20251025T070000
DTEND;TZID=Europe/Rome;VALUE=DATE-TIME:20251116T110000
DTSTAMP;VALUE=DATE-TIME:20260421T172345Z
UID:054e191088064bd3a67fd0a0a8312526@www.baccanaleimola.it
CATEGORIES:Baccanale 2025,spezie,Baccanale in boutique
CREATED;VALUE=DATE-TIME:20250918T105553Z
DESCRIPTION:Una colazione che unisce tradizione e creatività\, dove il pr
 ofumo delle spezie incontra ingredienti genuini e stagionali. In collabora
 zione con l’azienda agricola Chiara Boschi\, abbiamo ideato un percorso 
 mattutino che celebra aromi\, colori e sapori capaci di trasformare il ris
 veglio in un’esperienza unica.
LAST-MODIFIED;VALUE=DATE-TIME:20251016T140000Z
URL:https://www.baccanaleimola.it/api/programma/sapori-e-spezie-al-callegh
 erie-21
END:VEVENT
BEGIN:VTIMEZONE
TZID:Europe/Rome
X-LIC-LOCATION:Europe/Rome
BEGIN:DAYLIGHT
DTSTART;VALUE=DATE-TIME:20250330T030000
TZNAME:CEST
TZOFFSETFROM:+0100
TZOFFSETTO:+0200
END:DAYLIGHT
BEGIN:STANDARD
DTSTART;VALUE=DATE-TIME:20251026T020000
TZNAME:CET
TZOFFSETFROM:+0200
TZOFFSETTO:+0100
END:STANDARD
END:VTIMEZONE
END:VCALENDAR
