BEGIN:VCALENDAR
VERSION:2.0
PRODID:-//Plone.org//NONSGML plone.app.event//EN
X-WR-TIMEZONE:Europe/Rome
BEGIN:VEVENT
SUMMARY:SAPORI E SAPERI DI OGGI E DI IERI
DTSTART;TZID=Europe/Rome;VALUE=DATE-TIME:20251109T090000
DTEND;TZID=Europe/Rome;VALUE=DATE-TIME:20251109T190000
DTSTAMP;VALUE=DATE-TIME:20260421T155225Z
UID:97b1ed0c97ab4fd681735dad173f0a36@www.baccanaleimola.it
CATEGORIES:Baccanale 2025,mercato,spezie
CREATED;VALUE=DATE-TIME:20250916T092022Z
DESCRIPTION:Mercatino a cura di Pro Loco Imola
LAST-MODIFIED;VALUE=DATE-TIME:20250917T085325Z
URL:https://www.baccanaleimola.it/api/programma/sapori-e-saperi-di-oggi-e-
 di-ieri-3
END:VEVENT
BEGIN:VTIMEZONE
TZID:Europe/Rome
X-LIC-LOCATION:Europe/Rome
BEGIN:STANDARD
DTSTART;VALUE=DATE-TIME:20251026T020000
TZNAME:CET
TZOFFSETFROM:+0200
TZOFFSETTO:+0100
END:STANDARD
END:VTIMEZONE
END:VCALENDAR
