BEGIN:VCALENDAR
VERSION:2.0
PRODID:-//Plone.org//NONSGML plone.app.event//EN
X-WR-TIMEZONE:Europe/Rome
BEGIN:VEVENT
SUMMARY:RICOSTRUZIONE STORICA DELLA SPEZIERIA DI DIOTAIUTI
DTSTART;TZID=Europe/Rome;VALUE=DATE-TIME:20251025T150000
DTEND;TZID=Europe/Rome;VALUE=DATE-TIME:20251116T190000
DTSTAMP;VALUE=DATE-TIME:20260421T155643Z
UID:c289cf5d4053445badafe8e8bf91e9ad@www.baccanaleimola.it
CATEGORIES:Baccanale 2025,spezie,mostre
CREATED;VALUE=DATE-TIME:20250916T134745Z
DESCRIPTION:La ricostruzione della spezieria di Diotaiuti è un allestimen
 to realizzato a partire dallo studio delle fonti dell’epoca e dei quader
 ni di una bottega realmente esistita a Imola a metà del Trecento
LAST-MODIFIED;VALUE=DATE-TIME:20250917T085327Z
URL:https://www.baccanaleimola.it/api/programma/ricostruzione-storica-dell
 a-spezieria-di-diotaiuti
END:VEVENT
BEGIN:VTIMEZONE
TZID:Europe/Rome
X-LIC-LOCATION:Europe/Rome
BEGIN:DAYLIGHT
DTSTART;VALUE=DATE-TIME:20250330T030000
TZNAME:CEST
TZOFFSETFROM:+0100
TZOFFSETTO:+0200
END:DAYLIGHT
BEGIN:STANDARD
DTSTART;VALUE=DATE-TIME:20251026T020000
TZNAME:CET
TZOFFSETFROM:+0200
TZOFFSETTO:+0100
END:STANDARD
END:VTIMEZONE
END:VCALENDAR
