BEGIN:VCALENDAR
VERSION:2.0
PRODID:-//Plone.org//NONSGML plone.app.event//EN
X-WR-TIMEZONE:Europe/Rome
BEGIN:VEVENT
SUMMARY:RIABILITAZIONE A TUTTO SAPORE: IL POTERE TERAPEUTICO DELLE SPEZIE
DTSTART;TZID=Europe/Rome;VALUE=DATE-TIME:20251112T173000
DTEND;TZID=Europe/Rome;VALUE=DATE-TIME:20251112T183000
DTSTAMP;VALUE=DATE-TIME:20260421T155849Z
UID:de5b9ee30f7d4f38aa9c170260d6dee6@www.baccanaleimola.it
CATEGORIES:Baccanale 2025,spezie,conferenza
CREATED;VALUE=DATE-TIME:20250916T103547Z
DESCRIPTION:Le spezie possono aiutare il nostro corpo durante la riabilita
 zione? L'incontro spiegherà il loro potere terapeutico. \n\n
LAST-MODIFIED;VALUE=DATE-TIME:20250917T085329Z
URL:https://www.baccanaleimola.it/api/programma/riabilitazione-a-tutto-sap
 ore-il-potere-terapeutico-delle-spezie
END:VEVENT
BEGIN:VTIMEZONE
TZID:Europe/Rome
X-LIC-LOCATION:Europe/Rome
BEGIN:STANDARD
DTSTART;VALUE=DATE-TIME:20251026T020000
TZNAME:CET
TZOFFSETFROM:+0200
TZOFFSETTO:+0100
END:STANDARD
END:VTIMEZONE
END:VCALENDAR
