BEGIN:VCALENDAR
VERSION:2.0
PRODID:-//Plone.org//NONSGML plone.app.event//EN
X-WR-TIMEZONE:Europe/Rome
BEGIN:VEVENT
SUMMARY:RACCONTI DI SPEZIE: STORIA\, GUSTI E PROFUMI
DTSTART;TZID=Europe/Rome;VALUE=DATE-TIME:20251028T190000
DTEND;TZID=Europe/Rome;VALUE=DATE-TIME:20251028T203000
DTSTAMP;VALUE=DATE-TIME:20260421T210648Z
UID:314db044624741e0986ac97f8e9daa1b@www.baccanaleimola.it
RRULE:FREQ=DAILY;UNTIL=20251028T000000Z;INTERVAL=1
RDATE;TZID=Europe/Rome:20251105T000000,20251112T000000
CATEGORIES:Baccanale 2025,spezie,laboratorio
CREATED;VALUE=DATE-TIME:20250915T102421Z
DESCRIPTION:Il corso ha lo scopo di consentire al grande pubblico di entra
 re a contatto diretto con la storia delle spezie\, sia attraverso un appro
 ccio teorico sia uno pratico-sensoriale.
LAST-MODIFIED;VALUE=DATE-TIME:20250917T085158Z
URL:https://www.baccanaleimola.it/api/programma/racconti-di-spezie-storia-
 gusti-e-profumi
END:VEVENT
BEGIN:VTIMEZONE
TZID:Europe/Rome
X-LIC-LOCATION:Europe/Rome
BEGIN:STANDARD
DTSTART;VALUE=DATE-TIME:20251026T020000
TZNAME:CET
TZOFFSETFROM:+0200
TZOFFSETTO:+0100
END:STANDARD
END:VTIMEZONE
END:VCALENDAR
