BEGIN:VCALENDAR
VERSION:2.0
PRODID:-//Plone.org//NONSGML plone.app.event//EN
X-WR-TIMEZONE:Europe/Rome
BEGIN:VEVENT
SUMMARY:QUEL E VE'D'IMOLA– QUELLO VIENE DA IMOLA
DTSTART;TZID=Europe/Rome;VALUE=DATE-TIME:20251108T170000
DTEND;TZID=Europe/Rome;VALUE=DATE-TIME:20251108T190000
DTSTAMP;VALUE=DATE-TIME:20260421T155300Z
UID:589894e14dda448a92303389035c2d0f@www.baccanaleimola.it
CATEGORIES:Baccanale 2025,spezie,convegno
CREATED;VALUE=DATE-TIME:20250916T090414Z
DESCRIPTION:Il progetto analizza il concetto di convivium\, il rapporto fr
 a degente ed alimentazione\, nel contesto dell’istituzione totalizzante\
 , quale l’ospedale psichiatrico\, nell’esempio specifico dell’ex man
 icomio imolese\, attraverso la ricerca d’archivio e testimonianze dirett
 e. \nA cura di Comitato “Bella Osservanza” e “RestaurOsservanza ONLU
 S”\nEvento ad offerta libera per i restauri dell’ex convento \n
LAST-MODIFIED;VALUE=DATE-TIME:20250917T085330Z
URL:https://www.baccanaleimola.it/api/programma/quel-e-vedimola2013-quello
 -viene-da-imola
END:VEVENT
BEGIN:VTIMEZONE
TZID:Europe/Rome
X-LIC-LOCATION:Europe/Rome
BEGIN:STANDARD
DTSTART;VALUE=DATE-TIME:20251026T020000
TZNAME:CET
TZOFFSETFROM:+0200
TZOFFSETTO:+0100
END:STANDARD
END:VTIMEZONE
END:VCALENDAR
