BEGIN:VCALENDAR
VERSION:2.0
PRODID:-//Plone.org//NONSGML plone.app.event//EN
X-WR-TIMEZONE:Europe/Rome
BEGIN:VEVENT
SUMMARY:PRESENTAZIONE DEL RICETTARIO “PIZZICHI DI SPEZIE E PRATICHE CULI
 NARIE”
DTSTART;TZID=Europe/Rome;VALUE=DATE-TIME:20251112T180000
DTEND;TZID=Europe/Rome;VALUE=DATE-TIME:20251112T190000
DTSTAMP;VALUE=DATE-TIME:20260421T155743Z
UID:958cface184446389da3002294329cde@www.baccanaleimola.it
CATEGORIES:Baccanale 2025,spezie,presentazione
CREATED;VALUE=DATE-TIME:20250916T104055Z
DESCRIPTION:Ricette di viaggio: sapori e storie di chi attraversa i confin
 i. Realizzato dal Gruppo Cooperativo Solco Civitas\, nell’ambito del pro
 getto SAI – Sistema Accoglienza Integrazione del Nuovo Circondario Imole
 se. L’evento sarà introdotto dalla Dott.ssa Ilaria Brusa\, laureata in 
 Relazioni Internazionali e specializzata in Migration Studies
LAST-MODIFIED;VALUE=DATE-TIME:20251020T091227Z
URL:https://www.baccanaleimola.it/api/programma/presentazione-del-ricettar
 io-201cpizzichi-di-spezie-e-pratiche-culinarie201d
END:VEVENT
BEGIN:VTIMEZONE
TZID:Europe/Rome
X-LIC-LOCATION:Europe/Rome
BEGIN:STANDARD
DTSTART;VALUE=DATE-TIME:20251026T020000
TZNAME:CET
TZOFFSETFROM:+0200
TZOFFSETTO:+0100
END:STANDARD
END:VTIMEZONE
END:VCALENDAR
