BEGIN:VCALENDAR
VERSION:2.0
PRODID:-//Plone.org//NONSGML plone.app.event//EN
X-WR-TIMEZONE:Europe/Rome
BEGIN:VEVENT
SUMMARY:PRESENTAZIONE DEL LIBRO “LA DIETA TERMODINAMICA”
DTSTART;TZID=Europe/Rome;VALUE=DATE-TIME:20251116T110000
DTEND;TZID=Europe/Rome;VALUE=DATE-TIME:20251116T120000
DTSTAMP;VALUE=DATE-TIME:20260421T155502Z
UID:0ff01dc699f04c4a92aacdd7606c2bf0@www.baccanaleimola.it
CATEGORIES:Baccanale 2025,spezie,incontro,presentazione
CREATED;VALUE=DATE-TIME:20250916T132317Z
DESCRIPTION:Dario Bressanini\, celebre “divulgatore scientifico\, cuoco 
 amatoriale\, chimico che odia la disinformazione\, specialmente in campo a
 limentare”\, presenterà il suo nuovo libro dal titolo “La dieta termo
 dinamica” (Mondadori\, 2025) 
LAST-MODIFIED;VALUE=DATE-TIME:20251017T064816Z
URL:https://www.baccanaleimola.it/api/programma/presentazione-del-libro-20
 1cla-dieta-termodinamica201d
END:VEVENT
BEGIN:VTIMEZONE
TZID:Europe/Rome
X-LIC-LOCATION:Europe/Rome
BEGIN:STANDARD
DTSTART;VALUE=DATE-TIME:20251026T020000
TZNAME:CET
TZOFFSETFROM:+0200
TZOFFSETTO:+0100
END:STANDARD
END:VTIMEZONE
END:VCALENDAR
