BEGIN:VCALENDAR
VERSION:2.0
PRODID:-//Plone.org//NONSGML plone.app.event//EN
X-WR-TIMEZONE:Europe/Rome
BEGIN:VEVENT
SUMMARY:PRANZO IN NOCETO
DTSTART;TZID=Europe/Rome;VALUE=DATE-TIME:20251116T120000
DTEND;TZID=Europe/Rome;VALUE=DATE-TIME:20251116T140000
DTSTAMP;VALUE=DATE-TIME:20260421T173039Z
UID:3258bd49a6ba41ed8f5676d447d80ddd@www.baccanaleimola.it
CATEGORIES:Baccanale 2025,spezie,cena
CREATED;VALUE=DATE-TIME:20250916T132630Z
DESCRIPTION:Pranzo in noceto con degustazione di Vini del Rapace e dell'Ol
 io del Frantoio Valsanterno.
LAST-MODIFIED;VALUE=DATE-TIME:20251028T103034Z
URL:https://www.baccanaleimola.it/api/programma/pranzo-in-noceto
END:VEVENT
BEGIN:VTIMEZONE
TZID:Europe/Rome
X-LIC-LOCATION:Europe/Rome
BEGIN:STANDARD
DTSTART;VALUE=DATE-TIME:20251026T020000
TZNAME:CET
TZOFFSETFROM:+0200
TZOFFSETTO:+0100
END:STANDARD
END:VTIMEZONE
END:VCALENDAR
