BEGIN:VCALENDAR
VERSION:2.0
PRODID:-//Plone.org//NONSGML plone.app.event//EN
X-WR-TIMEZONE:Europe/Rome
BEGIN:VEVENT
SUMMARY:Porte aperte in Frantoio
DTSTART;TZID=Europe/Rome;VALUE=DATE-TIME:20251011T093000
DTEND;TZID=Europe/Rome;VALUE=DATE-TIME:20251011T110000
DTSTAMP;VALUE=DATE-TIME:20260421T173224Z
UID:72f20a58774847bd9456ef2b60d361c4@www.baccanaleimola.it
RRULE:FREQ=WEEKLY;UNTIL=20251025T000000Z;INTERVAL=1;BYDAY=SA
CATEGORIES:Baccanale 2025,visita guidata,spezie,un filo d'olio
CREATED;VALUE=DATE-TIME:20251009T074714Z
DESCRIPTION:Frantoio Valsanterno offre l’opportunità di vivere in prima
  persona un viaggio alla scoperta dell’Olio Extra Vergine di Oliva del t
 erritorio imolese. 
LAST-MODIFIED;VALUE=DATE-TIME:20251009T074905Z
URL:https://www.baccanaleimola.it/api/programma/porte-aperte-in-frantoio-4
END:VEVENT
BEGIN:VTIMEZONE
TZID:Europe/Rome
X-LIC-LOCATION:Europe/Rome
BEGIN:DAYLIGHT
DTSTART;VALUE=DATE-TIME:20250330T030000
TZNAME:CEST
TZOFFSETFROM:+0100
TZOFFSETTO:+0200
END:DAYLIGHT
END:VTIMEZONE
END:VCALENDAR
