BEGIN:VCALENDAR
VERSION:2.0
PRODID:-//Plone.org//NONSGML plone.app.event//EN
X-WR-TIMEZONE:Europe/Rome
BEGIN:VEVENT
SUMMARY:POLVERI MAGICHE? SPEZIE ANTINFIAMMATORIE
DTSTART;TZID=Europe/Rome;VALUE=DATE-TIME:20251107T203000
DTEND;TZID=Europe/Rome;VALUE=DATE-TIME:20251107T213000
DTSTAMP;VALUE=DATE-TIME:20260421T172151Z
UID:b327e9a92abf4f2eb2e1169f6f1b78d3@www.baccanaleimola.it
CATEGORIES:Baccanale 2025,spezie
CREATED;VALUE=DATE-TIME:20250916T080609Z
DESCRIPTION:La nutrizionista Succi Valentina terrà una relazione sulle ca
 ratteristiche delle spezie commestibili utili alla longevità\; verranno e
 saminati i vantaggi dell'uso quotidiano e gli impieghi nella cucina locale
 . Esempi pratici da portare a casa\nA cura dell’Associazione Professione
  Medica Insalute ETS\n
LAST-MODIFIED;VALUE=DATE-TIME:20250917T085158Z
URL:https://www.baccanaleimola.it/api/programma/polveri-magiche-spezie-ant
 infiammatorie
END:VEVENT
BEGIN:VTIMEZONE
TZID:Europe/Rome
X-LIC-LOCATION:Europe/Rome
BEGIN:STANDARD
DTSTART;VALUE=DATE-TIME:20251026T020000
TZNAME:CET
TZOFFSETFROM:+0200
TZOFFSETTO:+0100
END:STANDARD
END:VTIMEZONE
END:VCALENDAR
