BEGIN:VCALENDAR
VERSION:2.0
PRODID:-//Plone.org//NONSGML plone.app.event//EN
X-WR-TIMEZONE:Europe/Rome
BEGIN:VEVENT
SUMMARY:OPEN DAY CACI
DTSTART;TZID=Europe/Rome;VALUE=DATE-TIME:20251025T160000
DTEND;TZID=Europe/Rome;VALUE=DATE-TIME:20251025T180000
DTSTAMP;VALUE=DATE-TIME:20260421T154028Z
UID:4b153257a53843b69958716850ed1024@www.baccanaleimola.it
CATEGORIES:Baccanale 2025,spezie
CREATED;VALUE=DATE-TIME:20250915T082618Z
DESCRIPTION:Visita all'azienda agricola imolese
LAST-MODIFIED;VALUE=DATE-TIME:20250917T085302Z
URL:https://www.baccanaleimola.it/api/programma/open-day-caci-1
END:VEVENT
BEGIN:VTIMEZONE
TZID:Europe/Rome
X-LIC-LOCATION:Europe/Rome
BEGIN:DAYLIGHT
DTSTART;VALUE=DATE-TIME:20250330T030000
TZNAME:CEST
TZOFFSETFROM:+0100
TZOFFSETTO:+0200
END:DAYLIGHT
END:VTIMEZONE
END:VCALENDAR
