BEGIN:VCALENDAR
VERSION:2.0
PRODID:-//Plone.org//NONSGML plone.app.event//EN
X-WR-TIMEZONE:Europe/Rome
BEGIN:VEVENT
SUMMARY:NON SOLO SALE … NELLE NOSTRE ZUCCHE
DTSTART;TZID=Europe/Rome;VALUE=DATE-TIME:20251113T170000
DTEND;TZID=Europe/Rome;VALUE=DATE-TIME:20251113T180000
DTSTAMP;VALUE=DATE-TIME:20260421T173747Z
UID:f658ac5ba592420db083a8cd6f0e4b90@www.baccanaleimola.it
CREATED;VALUE=DATE-TIME:20250916T105038Z
DESCRIPTION:Sul tema delle “spezie” non potevamo non ricordare che nel
 l'antica Roma\, le spezie\, insieme ad altre erbe aromatiche\, svolgevano 
 un ruolo fondamentale nella cucina\, non solo per insaporire i piatti ma a
 nche per la conservazione degli alimenti. Da essere ricchi a essere intell
 igenti.
LAST-MODIFIED;VALUE=DATE-TIME:20250917T085325Z
URL:https://www.baccanaleimola.it/api/programma/non-solo-sale-nelle-nostre
 -zucche
END:VEVENT
BEGIN:VTIMEZONE
TZID:Europe/Rome
X-LIC-LOCATION:Europe/Rome
BEGIN:STANDARD
DTSTART;VALUE=DATE-TIME:20251026T020000
TZNAME:CET
TZOFFSETFROM:+0200
TZOFFSETTO:+0100
END:STANDARD
END:VTIMEZONE
END:VCALENDAR
