BEGIN:VCALENDAR
VERSION:2.0
PRODID:-//Plone.org//NONSGML plone.app.event//EN
X-WR-TIMEZONE:Europe/Rome
BEGIN:VEVENT
SUMMARY:NEL PIATTO O SULLA TELA?
DTSTART;TZID=Europe/Rome;VALUE=DATE-TIME:20251102T163000
DTEND;TZID=Europe/Rome;VALUE=DATE-TIME:20251102T173000
DTSTAMP;VALUE=DATE-TIME:20260421T172157Z
UID:5685dd9c15484b2cae29c8012723c9dd@www.baccanaleimola.it
CATEGORIES:Baccanale 2025,spezie
CREATED;VALUE=DATE-TIME:20250915T114640Z
DESCRIPTION:Un tempo ogni pittore fabbricava da solo i propri colori\, alt
 ro che tubetti da comprare nei negozi! La preparazione dei colori era un
 ’operazione molto importante\, laboriosa e delicata\, e spesso l’artis
 ta seguiva vere proprie ricette a base di erbe e spezie. Sperimentiamo anc
 he noi e inventiamo tutti i colori possibili con ciò che la natura ci off
 re. 
LAST-MODIFIED;VALUE=DATE-TIME:20250917T085218Z
URL:https://www.baccanaleimola.it/api/programma/nel-piatto-o-sulla-tela
END:VEVENT
BEGIN:VTIMEZONE
TZID:Europe/Rome
X-LIC-LOCATION:Europe/Rome
BEGIN:STANDARD
DTSTART;VALUE=DATE-TIME:20251026T020000
TZNAME:CET
TZOFFSETFROM:+0200
TZOFFSETTO:+0100
END:STANDARD
END:VTIMEZONE
END:VCALENDAR
