BEGIN:VCALENDAR
VERSION:2.0
PRODID:-//Plone.org//NONSGML plone.app.event//EN
X-WR-TIMEZONE:Europe/Rome
BEGIN:VEVENT
SUMMARY:MOSTRA D’ARTE PER IL BACCANALE 2025 “UN MONDO DI SPEZIE”
DTSTART;VALUE=DATE:20251025
DTEND;VALUE=DATE:20251126
DTSTAMP;VALUE=DATE-TIME:20260421T155814Z
UID:c58afb97d2a44243a0680e7b82d85b10@www.baccanaleimola.it
CATEGORIES:Baccanale 2025,spezie,mostre
CREATED;VALUE=DATE-TIME:20250916T140816Z
DESCRIPTION:Visitabile nei giorni e orari di apertura dell’esercizio com
 merciale\nMostra collettiva dei soci del Circolo Culturale Amici dell’Ar
 te\n
LAST-MODIFIED;VALUE=DATE-TIME:20251017T072904Z
URL:https://www.baccanaleimola.it/api/programma/mostra-d2019arte-per-il-ba
 ccanale-2025-201cun-mondo-di-spezie201d
END:VEVENT
END:VCALENDAR
