BEGIN:VCALENDAR
VERSION:2.0
PRODID:-//Plone.org//NONSGML plone.app.event//EN
X-WR-TIMEZONE:Europe/Rome
BEGIN:VEVENT
SUMMARY:MASTER SPICE – SFIDA CULINARIA TRA CUOCHI DI MANIFATTURE ARCI
DTSTART;TZID=Europe/Rome;VALUE=DATE-TIME:20251113T200000
DTEND;TZID=Europe/Rome;VALUE=DATE-TIME:20251113T220000
DTSTAMP;VALUE=DATE-TIME:20260421T155615Z
UID:db20b46bebf94ca1b7edb5a42ede9d26@www.baccanaleimola.it
CATEGORIES:Baccanale 2025,spezie,cena
CREATED;VALUE=DATE-TIME:20250916T110318Z
DESCRIPTION:Una cena e un gioco. Quale sarà la spezia segreta? Oltre alle
  votazioni\, tanti menù con antipasto\, primo e secondo per una cena da c
 ondividere in lunghe tavolate.\n18 €\, bevande escluse e tessera Arci 20
 25/2026\nPrenotazione obbligatoria entro martedì 11 novembre: manifatture
 arci.imola@gmail.com\n
LAST-MODIFIED;VALUE=DATE-TIME:20250917T085325Z
URL:https://www.baccanaleimola.it/api/programma/master-spice-2013-sfida-cu
 linaria-tra-cuochi-di-manifatture-arci
END:VEVENT
BEGIN:VTIMEZONE
TZID:Europe/Rome
X-LIC-LOCATION:Europe/Rome
BEGIN:STANDARD
DTSTART;VALUE=DATE-TIME:20251026T020000
TZNAME:CET
TZOFFSETFROM:+0200
TZOFFSETTO:+0100
END:STANDARD
END:VTIMEZONE
END:VCALENDAR
