BEGIN:VCALENDAR
VERSION:2.0
PRODID:-//Plone.org//NONSGML plone.app.event//EN
X-WR-TIMEZONE:Europe/Rome
BEGIN:VEVENT
SUMMARY:MAESTRO PASTICCERE GINO FABBRI
DTSTART;TZID=Europe/Rome;VALUE=DATE-TIME:20251102T160000
DTEND;TZID=Europe/Rome;VALUE=DATE-TIME:20251102T170000
DTSTAMP;VALUE=DATE-TIME:20260421T172224Z
UID:ff8a9ef97c8d4944b29f9d8118850748@www.baccanaleimola.it
CATEGORIES:Baccanale 2025,spezie
CREATED;VALUE=DATE-TIME:20250915T114018Z
DESCRIPTION:Il Maestro Gino Fabbri racconterà il ruolo delle spezie nella
  pasticceria contemporanea\, tra tradizione e nuove interpretazioni. Verra
 nno esplorati gli usi delle spezie come elementi aromatici e funzionali: c
 apaci di esaltare profumi e sapori\, ma anche di armonizzare e correggere 
 le caratteristiche di alcune preparazioni dolci. Un approfondimento sarà 
 dedicato al connubio tra spezie e ovoprodotti\, fondamentali nelle prepara
 zioni in pasticceria.
LAST-MODIFIED;VALUE=DATE-TIME:20251017T075831Z
URL:https://www.baccanaleimola.it/api/programma/maestro-pasticcere-gino-fa
 bbri
END:VEVENT
BEGIN:VTIMEZONE
TZID:Europe/Rome
X-LIC-LOCATION:Europe/Rome
BEGIN:STANDARD
DTSTART;VALUE=DATE-TIME:20251026T020000
TZNAME:CET
TZOFFSETFROM:+0200
TZOFFSETTO:+0100
END:STANDARD
END:VTIMEZONE
END:VCALENDAR
