BEGIN:VCALENDAR
VERSION:2.0
PRODID:-//Plone.org//NONSGML plone.app.event//EN
X-WR-TIMEZONE:Europe/Rome
BEGIN:VEVENT
SUMMARY:LEGGI E ASSAGGIA: GABRIELLA GENISI
DTSTART;TZID=Europe/Rome;VALUE=DATE-TIME:20251030T203000
DTEND;TZID=Europe/Rome;VALUE=DATE-TIME:20251030T213000
DTSTAMP;VALUE=DATE-TIME:20260421T171927Z
UID:330c7bc35cd74b0a949673cc8589dd1b@www.baccanaleimola.it
CATEGORIES:Baccanale 2025,spezie
CREATED;VALUE=DATE-TIME:20250915T105615Z
DESCRIPTION:Gabriella Genisi racconta le ricette di casa Lobosco.\nDegusta
 zione di spaghetti all’assassina a cura dell’Istituto Alberghiero “P
 . Artusi” di Riolo Terme\n
LAST-MODIFIED;VALUE=DATE-TIME:20251022T071419Z
URL:https://www.baccanaleimola.it/api/programma/leggi-e-assaggia
END:VEVENT
BEGIN:VTIMEZONE
TZID:Europe/Rome
X-LIC-LOCATION:Europe/Rome
BEGIN:STANDARD
DTSTART;VALUE=DATE-TIME:20251026T020000
TZNAME:CET
TZOFFSETFROM:+0200
TZOFFSETTO:+0100
END:STANDARD
END:VTIMEZONE
END:VCALENDAR
