BEGIN:VCALENDAR
VERSION:2.0
PRODID:-//Plone.org//NONSGML plone.app.event//EN
X-WR-TIMEZONE:Europe/Rome
BEGIN:VEVENT
SUMMARY:LEGGI E ASSAGGIA: FRANCESCO ANTINUCCI - evento annullato
DTSTART;TZID=Europe/Rome;VALUE=DATE-TIME:20251113T203000
DTEND;TZID=Europe/Rome;VALUE=DATE-TIME:20251113T213000
DTSTAMP;VALUE=DATE-TIME:20260421T154935Z
UID:410065ff16434b9dad85a33eecb956ca@www.baccanaleimola.it
CATEGORIES:Baccanale 2025,spezie,incontro,degustazione
CREATED;VALUE=DATE-TIME:20250916T105855Z
DESCRIPTION:Francesco Antinucci presenta “Spezie. Una storia di scoperte
 \, avidità e lusso” (Economica Laterza\, 2016). Il libro esamina l’im
 portanza del commercio di spezie\, cercando di dare un’idea quantitativa
  dei valori in gioco nelle diverse epoche storiche\, epoche scandite propr
 io dalle modalità di questo commercio. 
LAST-MODIFIED;VALUE=DATE-TIME:20251028T082657Z
URL:https://www.baccanaleimola.it/api/programma/leggi-e-assaggia-2
END:VEVENT
BEGIN:VTIMEZONE
TZID:Europe/Rome
X-LIC-LOCATION:Europe/Rome
BEGIN:STANDARD
DTSTART;VALUE=DATE-TIME:20251026T020000
TZNAME:CET
TZOFFSETFROM:+0200
TZOFFSETTO:+0100
END:STANDARD
END:VTIMEZONE
END:VCALENDAR
