BEGIN:VCALENDAR
VERSION:2.0
PRODID:-//Plone.org//NONSGML plone.app.event//EN
X-WR-TIMEZONE:Europe/Rome
BEGIN:VEVENT
SUMMARY:LEGGI E ASSAGGIA: STEFANIA AUCI
DTSTART;TZID=Europe/Rome;VALUE=DATE-TIME:20251109T110000
DTEND;TZID=Europe/Rome;VALUE=DATE-TIME:20251109T123000
DTSTAMP;VALUE=DATE-TIME:20260421T173057Z
UID:b0440b2ca1ae4b3f85e91eb4cb94cfd1@www.baccanaleimola.it
CATEGORIES:Baccanale 2025,spezie,presentazione,degustazione
CREATED;VALUE=DATE-TIME:20250916T092905Z
DESCRIPTION:Stefania Auci e la saga dei Florio (“I leoni di Sicilia”\,
  “L’inverno dei leoni”\, Editrice Nord)\, l’aromateria\, piccola b
 ottega di spezie e prodotti coloniali da cui partì un’ascesa economica 
 che avrebbe inciso profondamente nel panorama industriale\, politico e cul
 turale della città di Palermo\nDegustazione a cura dell’Istituto Alberg
 hiero “P. Artusi” di Riolo Terme\n
LAST-MODIFIED;VALUE=DATE-TIME:20251007T130326Z
URL:https://www.baccanaleimola.it/api/programma/leggi-e-assaggia-1
END:VEVENT
BEGIN:VTIMEZONE
TZID:Europe/Rome
X-LIC-LOCATION:Europe/Rome
BEGIN:STANDARD
DTSTART;VALUE=DATE-TIME:20251026T020000
TZNAME:CET
TZOFFSETFROM:+0200
TZOFFSETTO:+0100
END:STANDARD
END:VTIMEZONE
END:VCALENDAR
