BEGIN:VCALENDAR
VERSION:2.0
PRODID:-//Plone.org//NONSGML plone.app.event//EN
X-WR-TIMEZONE:Europe/Rome
BEGIN:VEVENT
SUMMARY:LE SPEZIE: FRUTTO DI UNA TERRA BENEDETTA
DTSTART;TZID=Europe/Rome;VALUE=DATE-TIME:20251107T183000
DTEND;TZID=Europe/Rome;VALUE=DATE-TIME:20251107T203000
DTSTAMP;VALUE=DATE-TIME:20260421T172525Z
UID:3da8161fd9414af1a858e9793b330a66@www.baccanaleimola.it
CATEGORIES:Baccanale 2025,spezie,degustazione,conferenza
CREATED;VALUE=DATE-TIME:20250916T075940Z
DESCRIPTION:La Bibbia menziona le 𝐬𝐩𝐞𝐳𝐢𝐞 𝐜𝐨𝐦
 𝐞 𝐦𝐞𝐫𝐜𝐢 𝐝𝐚𝐥 𝐯𝐚𝐥𝐨𝐫𝐞 𝐬𝐢
 𝐦𝐢𝐥𝐞 𝐚 𝐪𝐮𝐞𝐥𝐥𝐨 𝐝𝐞𝐥𝐥’𝐨𝐫
 𝐨. Carovane cariche di spezie percorrevano regolarmente distanze pari a
  circa 1.800 km. attraverso l’Arabia\, dirette verso Israele. La 𝐥
 𝐞𝐜𝐭𝐢𝐨 𝐝𝐢 𝐏𝐚𝐝𝐫𝐞 𝐅𝐫𝐚𝐧𝐜
 𝐞𝐬𝐜𝐨 𝐁𝐨𝐭𝐭𝐞𝐫𝐢𝐨 addentrerà gli ascoltat
 ori 𝐚𝐥𝐥𝐚 𝐬𝐜𝐨𝐩𝐞𝐫𝐭𝐚 𝐝𝐢 𝐮𝐧
 𝐚 𝐭𝐞𝐫𝐫𝐚 𝐛𝐞𝐧𝐞𝐝𝐞𝐭𝐭𝐚\, profumata
  da aromi sacri e pregiati la cui storia è tanto affascinante quanto mist
 eriosa. A seguire "𝐝𝐞𝐠𝐮𝐬𝐭𝐚𝐳𝐢𝐨𝐧𝐞 𝐜
 𝐨𝐧 𝐛𝐢𝐫𝐫𝐚𝐢𝐨": assaggio guidato della birra al pe
 pe rosa\, del birrificio artigianale francescano Due Fusti\, accompagnata 
 da un antipasto aromatico\, preparato dall'allegra brigata del convento.
LAST-MODIFIED;VALUE=DATE-TIME:20250917T085157Z
URL:https://www.baccanaleimola.it/api/programma/le-spezie-frutto-di-una-te
 rra-benedetta
END:VEVENT
BEGIN:VTIMEZONE
TZID:Europe/Rome
X-LIC-LOCATION:Europe/Rome
BEGIN:STANDARD
DTSTART;VALUE=DATE-TIME:20251026T020000
TZNAME:CET
TZOFFSETFROM:+0200
TZOFFSETTO:+0100
END:STANDARD
END:VTIMEZONE
END:VCALENDAR
